BEGIN:VCALENDAR
VERSION:2.0
PRODID:Val Verde Teachers' Association
CALSCALE:GREGORIAN
BEGIN:VEVENT
DTSTAMP:20260423T203426Z
UID:22f343e9-f4c5-4c54-a143-66a23ff98631
DTSTART:20160208T130000Z
DTEND:20160208T143000Z
DESCRIPTION:
LOCATION:80 Commerce Dr.\, Perris\, CA 92571
SUMMARY:Kickboxing
URL;VALUE=URI:https://vvta.tidyhq.com/public/events/4201-kickboxing
END:VEVENT
END:VCALENDAR
